BEGIN:VCALENDAR
PRODID:-//github.com/rianjs/ical.net//NONSGML ical.net 4.0//EN
VERSION:2.0
BEGIN:VTIMEZONE
TZID:Mountain Standard Time
X-LIC-LOCATION:America/Denver
BEGIN:STANDARD
DTSTART:20241103T020000
RRULE:FREQ=YEARLY;BYDAY=1SU;BYMONTH=11
TZNAME:MST
TZOFFSETFROM:-0600
TZOFFSETTO:-0700
END:STANDARD
BEGIN:DAYLIGHT
DTSTART:20250309T020000
RRULE:FREQ=YEARLY;BYDAY=2SU;BYMONTH=3
TZNAME:MDT
TZOFFSETFROM:-0700
TZOFFSETTO:-0600
END:DAYLIGHT
END:VTIMEZONE
BEGIN:VEVENT
DESCRIPTION:2026 Short Term Rental Group Meeting
DTEND;TZID=Mountain Standard Time:20260512T133000
DTSTAMP:20260422T022417Z
DTSTART;TZID=Mountain Standard Time:20260512T120000
LOCATION:Rental Housing Association of Utah 230 West Towne Ridge Parkway S
 te. 215 Sandy\, UT 84070 United States
ORGANIZER;CN=;SENT-BY="mailto:":
SEQUENCE:0
SUMMARY:RHA Utah: 2026 Short Term Rental Group Meeting
UID:25e1be4b-2fec-4fc5-89a5-4758aff22207
END:VEVENT
END:VCALENDAR
